BEGIN:VCALENDAR
VERSION:2.0
PRODID:SoDel
X-WR-CALNAME:Watercolor Crabs
BEGIN:VEVENT
UID:347312026-04-21
DTSTART:20260421T133000Z
SEQUENCE:0
TRANSP:OPAQUE
DTEND:20260421T040000Z
LOCATION:107 Federal Street\nMilton DE 19968
X-APPLE-STRUCTURED-LOCATION;VALUE=URI;X-ADDRESS=107 Federal Street\nMilton 
 DE 19968;X-APPLE-RADIUS=49;X-TITLE=107 Federal Street:geo:38.777338,-75.31
 0105
GEO:38.777338;-75.310105
SUMMARY:Watercolor Crabs
CLASS:PUBLIC
DESCRIPTION:Watercolor Crabs Sometimes\, you just need to paint a crab. Why
 ?\nBecause we all have our moments of feeling a bit crabby. Have you ever\
 nhad a crab chase you down the docks? Discover various techniques to\nbrin
 g a whole bushel of crabs to life on your paper. Experiment with\ndifferen
 t colors\, try wet-on-wet techniques\, and explore methods like\ncharging 
 and spattering to create vibrant\, dynamic artwork. April\n21st\, 9:30 a.m
 .-12:30 p.m. Venue: Milton Arts Guild.
X-ALT-DESC;FMTTYPE=text/html:Watercolor Crabs Sometimes\, you just need to 
 paint a crab. Why? Because we all have our moments of feeling a bit crabby
 . Have you ever had a crab chase you down the docks? Discover various tech
 niques to bring a whole bushel of crabs to life on your paper. Experiment 
 with different colors\, try wet-on-wet techniques\, and explore methods li
 ke charging and spattering to create vibrant\, dynamic artwork. April 21st
 \, 9:30 a.m.-12:30 p.m. Venue: Milton Arts Guild.
DTSTAMP:20260421T164406Z
END:VEVENT
END:VCALENDAR