BEGIN:VCALENDAR
VERSION:2.0
PRODID:SoDel
X-WR-CALNAME:The Man Who Saves the World? Movie Premiere
BEGIN:VEVENT
UID:350142026-04-22
DTSTART:20260422T233000Z
SEQUENCE:0
TRANSP:OPAQUE
DTEND:20260423T020000Z
LOCATION:17701 Dartmouth Drive\nLewes Delaware 19958
X-APPLE-STRUCTURED-LOCATION;VALUE=URI;X-ADDRESS=17701 Dartmouth Drive\nLewe
 s Delaware 19958;X-APPLE-RADIUS=49;X-TITLE=17701 Dartmouth Drive:geo:38.74
 3420,-75.154447
GEO:38.743420;-75.154447
SUMMARY:The Man Who Saves the World? Movie Premiere
CLASS:PUBLIC
DESCRIPTION:Described as wildly entertaining\, profoundly important\, and u
 nlike\nanything audiences have seen before\, the film follows Patrick McCo
 llum\n— an unlikely peace advocate drawn into an Indigenous prophecy tha
 t\ncould impact the fate of the Amazon and our planet. It’s part\ncomedy
 \, part spiritual journey\, and entirely human. Viewers leave\nlaughing\, 
 questioning\, and seeing the world a little differently.\n\nBacked by trai
 lblazers in conservation and entertainment including\nJane Goodall\, Peter
  Farrelly\, Danny McBride\, David Gordon Green\, and\nJody Hill\, this doc
 umentary transcends categories. It is as\nentertaining as it is transforma
 tive. It was recently named one of the\nTop 6 documentaries of the year by
  The Hollywood Reporter and\ncurrently holds a 100% rating on Rotten Tomat
 oes.\n
X-ALT-DESC;FMTTYPE=text/html:<p>Described as wildly entertaining\, profound
 ly important\, and unlike anything audiences have seen before\, the film f
 ollows Patrick McCollum &mdash\; an unlikely peace advocate drawn into an 
 Indigenous prophecy that could impact the fate of the Amazon and our plane
 t. It&rsquo\;s part comedy\, part spiritual journey\, and entirely human. 
 Viewers leave laughing\, questioning\, and seeing the world a little diffe
 rently.<br />\n<br />\nBacked by trailblazers in conservation and entertai
 nment including Jane Goodall\, Peter Farrelly\, Danny McBride\, David Gord
 on Green\, and Jody Hill\, this documentary transcends categories. It is a
 s entertaining as it is transformative. It was recently named one of the T
 op 6 documentaries of the year by The Hollywood Reporter and currently hol
 ds a 100% rating on Rotten Tomatoes.</p>
DTSTAMP:20260422T070007Z
END:VEVENT
END:VCALENDAR