BEGIN:VCALENDAR
VERSION:2.0
PRODID:SoDel
X-WR-CALNAME:Stealing Savanah 9PM
BEGIN:VEVENT
UID:342392026-04-24
DTSTART;VALUE=DATE:20260424
SEQUENCE:0
TRANSP:OPAQUE
DTEND;VALUE=DATE:20260425
LOCATION:113 Dickinson Ave\nDewey Beach DE 19971
X-APPLE-STRUCTURED-LOCATION;VALUE=URI;X-ADDRESS=113 Dickinson Ave\nDewey Be
 ach DE 19971;X-APPLE-RADIUS=49;X-TITLE=113 Dickinson Ave:geo:38.690034,-75
 .076172
GEO:38.690034;-75.076172
SUMMARY:Stealing Savanah 9PM
CLASS:PUBLIC
X-MICROSOFT-CDO-ALLDAYEVENT:TRUE
DTSTAMP:20260424T052435Z
END:VEVENT
END:VCALENDAR