BEGIN:VCALENDAR
VERSION:2.0
PRODID:SoDel
X-WR-CALNAME:Spring Delmarva Birding Weekend
BEGIN:VEVENT
UID:347762026-04-24
DTSTART;VALUE=DATE:20260424
SEQUENCE:0
TRANSP:OPAQUE
DTEND;VALUE=DATE:20260425
LOCATION:18074 Redden Forest Drive\nGeorgetown Delaware 19947
X-APPLE-STRUCTURED-LOCATION;VALUE=URI;X-ADDRESS=18074 Redden Forest Drive\n
 Georgetown Delaware 19947;X-APPLE-RADIUS=49;X-TITLE=18074 Redden Forest Dr
 ive:geo:38.741063,-75.408270
GEO:38.741063;-75.408270
SUMMARY:Spring Delmarva Birding Weekend
CLASS:PUBLIC
DESCRIPTION:The 12\,000 acres of REDDEN STATE FOREST\n[https://www.visitde
 laware.com/listings/redden-state-forest-and-redden-lodge/5421] near\nGeor
 getown\, Delaware\, offer some of the best habitat for breeding\nforest bi
 rds\, including Red-headed Woodpecker\, Summer Tanager\,\nYellow-throated\
 , Hooded and Kentucky Warbler and Yellow-throated\nVireo. The trip will in
 volve some easy walking and car caravans\nbetween major stops.\n\n_PLEASE 
 NOTE: _Dress and prepare for hiking on trails that may be wet\nand muddy.
  Waterproof boots are recommended. Please prepare for ticks.\nBe sure to b
 ring insect repellent. For information about preventing\ntickborne diseas
 es\, please CLICK HERE\n[https://phpa.health.maryland.gov/OIDEOR/CZVBD/Pa
 ges/tick%20dz_prevention.aspx#:~:text=Wear%20long%20pants%20and%20long\,he
 lp%20spot%20ticks%20more%20easily.&text=Use%20repellent%20%E2%80%8Bon%20ex
 posed%20skin%20for%20protection%20that%20lasts%20several%20hours.].\n
X-ALT-DESC;FMTTYPE=text/html:<p>The 12\,000 acres of&nbsp\;<a href=\"https:
 //www.visitdelaware.com/listings/redden-state-forest-and-redden-lodge/5421
 \"><strong>Redden State Forest</strong></a>&nbsp\;near Georgetown\, Delawa
 re\, offer some of the best habitat for breeding forest birds\, including 
 Red-headed Woodpecker\, Summer Tanager\, Yellow-throated\, Hooded and Kent
 ucky Warbler and Yellow-throated Vireo. The trip will involve some easy wa
 lking and car caravans between major stops.</p>\n\n<p><strong><em>Please n
 ote:&nbsp\;</em></strong>Dress and prepare for hiking on trails that may b
 e wet and muddy. Waterproof boots are recommended. Please prepare for tick
 s. Be sure to bring insect repellent. For information about&nbsp\;preventi
 ng tickborne diseases\, please&nbsp\;<a href=\"https://phpa.health.marylan
 d.gov/OIDEOR/CZVBD/Pages/tick%20dz_prevention.aspx#:~:text=Wear%20long%20p
 ants%20and%20long\,help%20spot%20ticks%20more%20easily.&amp\;text=Use%20re
 pellent%20%E2%80%8Bon%20exposed%20skin%20for%20protection%20that%20lasts%2
 0several%20hours.\"><strong>click here</strong></a>.</p>
X-MICROSOFT-CDO-ALLDAYEVENT:TRUE
DTSTAMP:20260424T052505Z
END:VEVENT
END:VCALENDAR