BEGIN:VCALENDAR
VERSION:2.0
PRODID:SoDel
X-WR-CALNAME:Melody Trucks & The Fitzkee Brothers featuring Joe Marcinek & 
 Will Bart
BEGIN:VEVENT
UID:350012026-04-20
DTSTART;VALUE=DATE:20260420
SEQUENCE:0
TRANSP:OPAQUE
DTEND;VALUE=DATE:20260421
LOCATION:18388 Coastal Highway #11\nLewes Delaware 19958
X-APPLE-STRUCTURED-LOCATION;VALUE=URI;X-ADDRESS=18388 Coastal Highway #11\n
 Lewes Delaware 19958;X-APPLE-RADIUS=49;X-TITLE=18388 Coastal Highway #11:g
 eo:38.739577,-75.147381
GEO:38.739577;-75.147381
SUMMARY:Melody Trucks & The Fitzkee Brothers featuring Joe Marcinek & Will 
 Bart
CLASS:PUBLIC
DESCRIPTION:Time & Location May 17\, 2026\, 6:00 PM – 8:30 PM The Listeni
 ng Booth\,\n18388 Coastal Hwy #11\, Lewes\, DE 19958\, USA About The Event
   Melody\nTrucks & The Fitzkee Brothers Band are back for another electri
 fying\nhometown show — don’t miss this beautiful celebration of\nworld
 -class musicianship rooted in community. Taking the stage at The\nListenin
 g Booth\, they’re welcoming powerhouse collaborators Joe\nMarcinek and W
 ill Bart\, expanding their soulful\, groove-driven sound\nwith deep improv
 isation and jam-scene firepower. The result is a\none-night musical summit
 \, as the Fitzkee Brothers return home to host\nfellow road-tested artists
 \, creating an electrifying experience built\non connection\, chemistry\, 
 and fearless collaboration.\n____________________________ MELODY TRUCKS & 
 THE FITZKEE BROTHERS:\nMelody Trucks and the Fitzkee Brothers don’t just
  play Southern\nrock—they set it on fire. Melody\, daughter of Allman Br
 others drum\nlegend Butch Trucks\, has carved her own lane with a voice th
 at can\npreach\, plead\, and flat-out roar. The Fitzkee Brothers bring the
  heat\,\nfusing raw\, blues-soaked riffs with a rhythm section that hits l
 ike a\nrunaway train. Together\, they’re not chasing history\, they are\
 nrewriting it! Venue: The Listening Booth.\n
X-ALT-DESC;FMTTYPE=text/html:<p>Time &amp\; Location May 17\, 2026\, 6:00 P
 M &ndash\; 8:30 PM The Listening Booth\, 18388 Coastal Hwy #11\, Lewes\, D
 E 19958\, USA About The Event &nbsp\;Melody Trucks &amp\; The Fitzkee Brot
 hers Band are back for another electrifying hometown show &mdash\; don&rsq
 uo\;t miss this beautiful celebration of world-class musicianship rooted i
 n community. Taking the stage at The Listening Booth\, they&rsquo\;re welc
 oming powerhouse collaborators Joe Marcinek and Will Bart\, expanding thei
 r soulful\, groove-driven sound with deep improvisation and jam-scene fire
 power. The result is a one-night musical summit\, as the Fitzkee Brothers 
 return home to host fellow road-tested artists\, creating an electrifying 
 experience built on connection\, chemistry\, and fearless collaboration. _
 ___________________________ MELODY TRUCKS &amp\; THE FITZKEE BROTHERS: Mel
 ody Trucks and the Fitzkee Brothers don&rsquo\;t just play Southern rock&m
 dash\;they set it on fire. Melody\, daughter of Allman Brothers drum legen
 d Butch Trucks\, has carved her own lane with a voice that can preach\, pl
 ead\, and flat-out roar. The Fitzkee Brothers bring the heat\, fusing raw\
 , blues-soaked riffs with a rhythm section that hits like a runaway train.
  Together\, they&rsquo\;re not chasing history\, they are rewriting it! Ve
 nue: The Listening Booth.</p>
X-MICROSOFT-CDO-ALLDAYEVENT:TRUE
DTSTAMP:20260421T023950Z
END:VEVENT
END:VCALENDAR