BEGIN:VCALENDAR
VERSION:2.0
PRODID:SoDel
X-WR-CALNAME:FOPH Book Club: Silent Spring by Rachel Carson
BEGIN:VEVENT
UID:348382026-04-22
DTSTART:20260422T223000Z
SEQUENCE:0
TRANSP:OPAQUE
DTEND:20260422T233000Z
LOCATION:12322 Turkle Pond Road\nMilton Delaware 19968
X-APPLE-STRUCTURED-LOCATION;VALUE=URI;X-ADDRESS=12322 Turkle Pond Road\nMil
 ton Delaware 19968;X-APPLE-RADIUS=49;X-TITLE=12322 Turkle Pond Road:geo:38
 .814892,-75.254458
GEO:38.814892;-75.254458
SUMMARY:FOPH Book Club: Silent Spring by Rachel Carson
CLASS:PUBLIC
DESCRIPTION:Prime Hook NWR Multipurpose Room\n12322 Turkle Pond Road\, Milt
 on\, DE 19968\n\nJoin us to discuss Rachel Carson’s Silent Spring\, a bo
 ok that led to\nthe banning of DDT\, raised public awareness about nature
 ’s\nvulnerability to human interventions\, and was instrumental in\ninsp
 iring the environmental movement.\n\nRegistration required. For more infor
 mation or to register\, visit our\nwebsite:\nhttps://sites.google.com/frie
 ndsofprimehook.org/friendsofprimehook/events\n
X-ALT-DESC;FMTTYPE=text/html:<p>Prime Hook NWR Multipurpose Room<br />\n123
 22 Turkle Pond Road\, Milton\, DE 19968<br />\n<br />\nJoin us to discuss 
 Rachel Carson&rsquo\;s Silent Spring\, a book that led to the banning of D
 DT\, raised public awareness about nature&rsquo\;s vulnerability to human 
 interventions\, and was instrumental in inspiring the environmental moveme
 nt.<br />\n<br />\nRegistration required. For more information or to regis
 ter\, visit our website: <a href=\"https://sites.google.com/friendsofprime
 hook.org/friendsofprimehook/events\" target=\"_blank\">https://sites.googl
 e.com/friendsofprimehook.org/friendsofprimehook/events</a></p>
DTSTAMP:20260422T065742Z
END:VEVENT
END:VCALENDAR