BEGIN:VCALENDAR
VERSION:2.0
PRODID:SoDel
X-WR-CALNAME:Earth Day Evening Hike
BEGIN:VEVENT
UID:348442026-04-22
DTSTART;VALUE=DATE:20260422
SEQUENCE:0
TRANSP:OPAQUE
DTEND;VALUE=DATE:20260423
LOCATION:15099 Cape Henlopen Drive\nLewes Delaware 19958
X-APPLE-STRUCTURED-LOCATION;VALUE=URI;X-ADDRESS=15099 Cape Henlopen Drive\n
 Lewes Delaware 19958;X-APPLE-RADIUS=49;X-TITLE=15099 Cape Henlopen Drive:g
 eo:38.784142,-75.098320
GEO:38.784142;-75.098320
SUMMARY:Earth Day Evening Hike
CLASS:PUBLIC
DESCRIPTION:Celebrate Earth Day with a guided hike exploring the parkÂs 
 flora\nand fauna before the sun sets. For ages 7+ with an adult. Pre-regis
 ter\nrequired by calling (302) 645-6852.\nFREE with park entrance fee.\n
X-ALT-DESC;FMTTYPE=text/html:<p>Celebrate Earth Day with a guided hike expl
 oring the park&Acirc\;s flora and fauna before the sun sets. For ages 7+
  with an adult. Pre-register required by calling (302) 645-6852.<br />\nFR
 EE with park entrance fee.</p>
X-MICROSOFT-CDO-ALLDAYEVENT:TRUE
DTSTAMP:20260422T065549Z
END:VEVENT
END:VCALENDAR