BEGIN:VCALENDAR
VERSION:2.0
PRODID:SoDel
X-WR-CALNAME:Earth Day: Dunes or Defense
BEGIN:VEVENT
UID:348462026-04-22
DTSTART;VALUE=DATE:20260422
SEQUENCE:0
TRANSP:OPAQUE
DTEND;VALUE=DATE:20260423
LOCATION:15099 Cape Henlopen State Park\nLewes Delaware 19958
X-APPLE-STRUCTURED-LOCATION;VALUE=URI;X-ADDRESS=15099 Cape Henlopen State P
 ark\nLewes Delaware 19958;X-APPLE-RADIUS=49;X-TITLE=15099 Cape Henlopen St
 ate Park:geo:38.777411,-75.089544
GEO:38.777411;-75.089544
SUMMARY:Earth Day: Dunes or Defense
CLASS:PUBLIC
DESCRIPTION:Take a guided hike to the top of the Great Dune in celebration 
 of\nEarth Day and Delaware State Parks’ 75th birthday! Learn how it\ncon
 tributed to coastal defense and how students defended the dune on\nthe fir
 st Earth Day in 1970\, helping to create the Cape Henlopen State\nPark we 
 love today! Meet at the Orientation Building by the main Fort\nMiles Museu
 m parking lot. Recommended for ages 7+. Free\, no\nregistration required.\
 n
X-ALT-DESC;FMTTYPE=text/html:<p>Take a guided hike to the top of the Great 
 Dune in celebration of Earth Day and Delaware State Parks&rsquo\; 75th bir
 thday! Learn how it contributed to coastal defense and how students defend
 ed the dune on the first Earth Day in 1970\, helping to create the Cape He
 nlopen State Park we love today! Meet at the Orientation Building by the m
 ain Fort Miles Museum parking lot. Recommended for ages 7+. Free\, no regi
 stration required.</p>
X-MICROSOFT-CDO-ALLDAYEVENT:TRUE
DTSTAMP:20260422T065631Z
END:VEVENT
END:VCALENDAR