BEGIN:VCALENDAR
VERSION:2.0
PRODID:SoDel
X-WR-CALNAME:“Delaware Railroads: Elegant Travel and Timely Transport”
BEGIN:VEVENT
UID:145812022-06-27
DTSTART:20220627T040000Z
SEQUENCE:0
TRANSP:OPAQUE
DTEND:20220627T144644Z
LOCATION:102 Kings Highway\nLewes Delaware 19958
X-APPLE-STRUCTURED-LOCATION;VALUE=URI;X-ADDRESS=102 Kings Highway\nLewes De
 laware 19958;X-APPLE-RADIUS=49;X-TITLE=102 Kings Highway:geo:38.774096,-75
 .139171
GEO:38.774096;-75.139171
SUMMARY:“Delaware Railroads: Elegant Travel and Timely Transport”
CLASS:PUBLIC
DESCRIPTION:Exhibit explores the history of rail travel and transport in th
 e First\nState emphasizing the New Castle and Frenchtown Railroad (1832)\,
  the\nDelaware Railroad (1852)\, the Junction and Breakwater Railroad (185
 7)\nand the Queen Anne’s Railroad (1896). Free admission. 302-645-1148\n
 or mailto:zmuseum@delaware.gov.\n
X-ALT-DESC;FMTTYPE=text/html:<p>Exhibit explores the history of rail travel
  and transport in the First State emphasizing the New Castle and Frenchtow
 n Railroad (1832)\, the Delaware Railroad (1852)\, the Junction and Breakw
 ater Railroad (1857) and the Queen Anne&rsquo\;s Railroad (1896). Free adm
 ission. 302-645-1148 or mailto:zmuseum@delaware.gov.</p>
DTSTAMP:20260421T094737Z
END:VEVENT
END:VCALENDAR