BEGIN:VCALENDAR
VERSION:2.0
PRODID:SoDel
X-WR-CALNAME:Celebrate Earth Day at the Green Screen Film Night
BEGIN:VEVENT
UID:349692026-04-22
DTSTART;VALUE=DATE:20260422
SEQUENCE:0
TRANSP:OPAQUE
DTEND;VALUE=DATE:20260423
LOCATION:12021 North Haven Drive\nSelbyville Delaware 19975
X-APPLE-STRUCTURED-LOCATION;VALUE=URI;X-ADDRESS=12021 North Haven Drive\nSe
 lbyville Delaware 19975;X-APPLE-RADIUS=49;X-TITLE=12021 North Haven Drive:
 geo:38.468214,-75.110699
GEO:38.468214;-75.110699
SUMMARY:Celebrate Earth Day at the Green Screen Film Night
CLASS:PUBLIC
DESCRIPTION:In celebration of Earth Day\, the community is invited to atten
 d the\nGreen Screen Film Night\, an evening dedicated to environmental\nst
 orytelling and the importance of reforestation. The event will take\nplace
  on April 22\, 2026\, from 6:00 pm to 9:00 pm at Signatures at\nBayside. 
 \n\n \n\nThis special event will feature compelling films centered on\nre
 forestation efforts and environmental conservation\, offering\nattendees a
 n opportunity to engage with meaningful stories that\nhighlight the import
 ance of protecting and restoring our watershed and\nbeyond. \n\n \n\nIn 
 addition to film screenings\, guests will hear from a panel of\nenvironmen
 tal advocates\, including Helen Raleigh from Story Hill\nFarms\, Lincoln S
 mith from Forested\, and Meghan Noe Fellows from the\nCenter for the Inlan
 d Bays. The panel discussion will provide deeper\ninsight into reforestati
 on initiatives\, and the role individuals and\ncommunities can play in sup
 porting a healthier environment. \n\n \n\nTickets are $40 per person and
  include curated appetizers prepared by\nSignatures and beverages provided
  by Ocean View Brewing Company. \n
X-ALT-DESC;FMTTYPE=text/html:<p dir=\"ltr\">In celebration of Earth Day\, t
 he community is invited to attend the Green Screen Film Night\, an evening
  dedicated to environmental storytelling and the importance of reforestati
 on. The event will take place on April 22\, 2026\, from 6:00 pm to 9:00 pm
  at Signatures at Bayside.&nbsp\;</p>\n\n<p>&nbsp\;</p>\n\n<p dir=\"ltr\">
 This special event will feature compelling films centered on reforestation
  efforts and environmental conservation\, offering attendees an opportunit
 y to engage with meaningful stories that highlight the importance of prote
 cting and restoring our watershed and beyond.&nbsp\;</p>\n\n<p>&nbsp\;</p>
 \n\n<p dir=\"ltr\">In addition to film screenings\, guests will hear from 
 a panel of environmental advocates\, including Helen Raleigh from Story Hi
 ll Farms\, Lincoln Smith from Forested\, and Meghan Noe Fellows from the C
 enter for the Inland Bays. The panel discussion will provide deeper insigh
 t into reforestation initiatives\, and the role individuals and communitie
 s can play in supporting a healthier environment.&nbsp\;</p>\n\n<p>&nbsp\;
 </p>\n\n<p dir=\"ltr\">Tickets are $40 per person and include curated appe
 tizers prepared by Signatures and beverages provided by Ocean View Brewing
  Company.&nbsp\;</p>
X-MICROSOFT-CDO-ALLDAYEVENT:TRUE
DTSTAMP:20260422T065931Z
END:VEVENT
END:VCALENDAR