BEGIN:VCALENDAR
VERSION:2.0
PRODID:SoDel
X-WR-CALNAME:2026 Ocean to Bay Bike Tour and Coastal Cruise
BEGIN:VEVENT
UID:342222026-04-24
DTSTART;VALUE=DATE:20260424
SEQUENCE:0
TRANSP:OPAQUE
DTEND;VALUE=DATE:20260425
LOCATION:36913 Coastal Highway\nFenwick Island Delaware 19944
X-APPLE-STRUCTURED-LOCATION;VALUE=URI;X-ADDRESS=36913 Coastal Highway\nFenw
 ick Island Delaware 19944;X-APPLE-RADIUS=49;X-TITLE=36913 Coastal Highway:
 geo:38.467853,-75.051198
GEO:38.467853;-75.051198
SUMMARY:2026 Ocean to Bay Bike Tour and Coastal Cruise
CLASS:PUBLIC
DESCRIPTION:Registration is open for the 2026 Ocean to Bay Bike Tour presen
 ted by\nThe Bethany-Fenwick Area Chamber of Commerce. Now in its 37th yea
 r\,\nthe event will be held April 24-25. Over 2\,000 cyclists will choose\
 nbetween a 10-\, 30-\, 50-\, 62.5-\, or 100-mile ride\, traveling through\
 nSouthern Delaware’s scenic beaches\, bays\, and beyond. Registered\ncyc
 lists will receive access to exclusive gifts and amenities\nincluding a lo
 ng-sleeve tech or cotton shirt\, delicious rest stops\nsnacks\, a complime
 ntary swag bag\, entertainment\, and post-ride prize\nwheel fun. Add-on op
 tions include a custom Voler cycling jersey and\npost-ride boxed lunch.\n\
 n \n\nSaturday riders (30-\, 50-\,62.5-\, or 100-mile routes) who registe
 r\nearly will have access to discounted prices. There is also an\naddition
 al discounted offer to teams of 6+ cyclists. At the start of\neach month b
 etween January and April\, registration prices will\nincrease. Proceeds fr
 om the Saturday ride will benefit local first\nresponders\, Contractors fo
 r a Cause\, Justin W. Jennings Foundation\,\nand the Harry K Foundation. P
 ost-ride celebrations will be held at\nparticipating restaurants for Satur
 day cyclists.\n\n \n\nIn addition to the Saturday tour\, there will be a 
 10-mile Coastal\nCruise on Friday\, April 24\, and Saturday\, April 25 fe
 aturing an\nout-and-back route from Bethany Beach to the Big Chill Beach C
 lub at\nthe Indian River Inlet. Cyclists of all levels can enjoy and take 
 in\nthe scenery on this beautiful ride along the coast. Registration for\n
 the Coastal Cruise is $35 and is a great option for families and\nindividu
 als looking for a fun outdoor activity. Saturday cyclists can\nadd the Coa
 stal Cruise onto their Saturday ride for $15 by selecting a\nCombo registr
 ation. To register online or learn more\,\nvisit www.oceantobaybiketour.c
 om\n[http://www.oceantobaybiketour.com/].\n
X-ALT-DESC;FMTTYPE=text/html:<p>Registration is open for the 2026 Ocean to 
 Bay Bike Tour presented by The Bethany-Fenwick Area Chamber of Commerce. N
 ow in its 37<sup>th</sup>&nbsp\;year\, the event will be held April 24-25.
  Over 2\,000 cyclists will choose between a 10-\, 30-\, 50-\, 62.5-\, or 1
 00-mile ride\, traveling through Southern Delaware&rsquo\;s scenic beaches
 \, bays\, and beyond. Registered cyclists will receive access to exclusive
  gifts and amenities including a long-sleeve tech or cotton shirt\, delici
 ous rest stops snacks\, a complimentary swag bag\, entertainment\, and pos
 t-ride prize wheel fun. Add-on options include a custom Voler cycling jers
 ey and post-ride boxed lunch.</p>\n\n<p>&nbsp\;</p>\n\n<p>Saturday riders 
 (30-\, 50-\,62.5-\, or 100-mile routes) who register early will have acces
 s to discounted prices. There is also an additional discounted offer to te
 ams of 6+ cyclists. At the start of each month between January and April\,
  registration prices will increase. Proceeds from the Saturday ride will b
 enefit local first responders\, Contractors for a Cause\, Justin W. Jennin
 gs Foundation\, and the Harry K Foundation. Post-ride celebrations will be
  held at participating restaurants for Saturday cyclists.</p>\n\n<p>&nbsp\
 ;</p>\n\n<p>In addition to the Saturday tour\, there will be a 10-mile Coa
 stal Cruise on Friday\, April 24<sup>\,</sup>&nbsp\;and Saturday\, April 2
 5 featuring an out-and-back route from Bethany Beach to the Big Chill Beac
 h Club at the Indian River Inlet. Cyclists of all levels can enjoy and tak
 e in the scenery on this beautiful ride along the coast. Registration for 
 the Coastal Cruise is $35 and is a great option for families and individua
 ls looking for a fun outdoor activity. Saturday cyclists can add the Coast
 al Cruise onto their Saturday ride for $15 by selecting a Combo registrati
 on. To register online or learn more\, visit&nbsp\;<a data-saferedirecturl
 =\"https://www.google.com/url?q=http://www.oceantobaybiketour.com&amp\;sou
 rce=gmail&amp\;ust=1767887676130000&amp\;usg=AOvVaw33c1lKhXQhttdo4o9MhpTV\
 " href=\"http://www.oceantobaybiketour.com/\" rel=\"noreferrer\" target=\"
 _blank\">www.oceantobaybiketour.com</a>.</p>
X-MICROSOFT-CDO-ALLDAYEVENT:TRUE
DTSTAMP:20260424T052729Z
END:VEVENT
END:VCALENDAR